BEGIN:VCALENDAR
VERSION:2.0
PRODID:-//Delaware Greenways - ECPv6.15.20//NONSGML v1.0//EN
CALSCALE:GREGORIAN
METHOD:PUBLISH
X-WR-CALNAME:Delaware Greenways
X-ORIGINAL-URL:https://delawaregreenways.org
X-WR-CALDESC:Events for Delaware Greenways
REFRESH-INTERVAL;VALUE=DURATION:PT1H
X-Robots-Tag:noindex
X-PUBLISHED-TTL:PT1H
BEGIN:VTIMEZONE
TZID:America/New_York
BEGIN:DAYLIGHT
TZOFFSETFROM:-0500
TZOFFSETTO:-0400
TZNAME:EDT
DTSTART:20180311T070000
END:DAYLIGHT
BEGIN:STANDARD
TZOFFSETFROM:-0400
TZOFFSETTO:-0500
TZNAME:EST
DTSTART:20181104T060000
END:STANDARD
BEGIN:DAYLIGHT
TZOFFSETFROM:-0500
TZOFFSETTO:-0400
TZNAME:EDT
DTSTART:20190310T070000
END:DAYLIGHT
BEGIN:STANDARD
TZOFFSETFROM:-0400
TZOFFSETTO:-0500
TZNAME:EST
DTSTART:20191103T060000
END:STANDARD
BEGIN:DAYLIGHT
TZOFFSETFROM:-0500
TZOFFSETTO:-0400
TZNAME:EDT
DTSTART:20200308T070000
END:DAYLIGHT
BEGIN:STANDARD
TZOFFSETFROM:-0400
TZOFFSETTO:-0500
TZNAME:EST
DTSTART:20201101T060000
END:STANDARD
BEGIN:DAYLIGHT
TZOFFSETFROM:-0500
TZOFFSETTO:-0400
TZNAME:EDT
DTSTART:20210314T070000
END:DAYLIGHT
BEGIN:STANDARD
TZOFFSETFROM:-0400
TZOFFSETTO:-0500
TZNAME:EST
DTSTART:20211107T060000
END:STANDARD
END:VTIMEZONE
BEGIN:VEVENT
DTSTART;TZID=America/New_York:20200923T173000
DTEND;TZID=America/New_York:20200923T190000
DTSTAMP:20260423T140939
CREATED:20200908T162844Z
LAST-MODIFIED:20210408T200139Z
UID:21480-1600882200-1600887600@delawaregreenways.org
SUMMARY:Southern New Castle County Master Plan (Virtual) Public Workshop
DESCRIPTION:This 1st Public Workshop on the Master Plan Update will provide an overview of the project\, including the schedule\, goals\, and background information.  The workshop will also explain what a Master Plan is and why it is important in shaping the future of a community.  By participating in this planning process\, you can help shape the way people live\, work\, and play in the Churchman’s Crossing area.  Log-in to the Workshop on Wednesday\, 9/16 via the link provided in registration. 								\n				\n					\n		\n				\n			\n						\n						\n					\n			\n						\n				\n																														\n				\n					\n		\n					\n		\n				\n				\n					Register for the Workshop				\n				\n				\n				\n									\n					\n						\n									Click to Register for Workshop Access
URL:https://delawaregreenways.org/events/southern-new-castle-county-master-plan-virtual-public-workshop/
CATEGORIES:Public Meeting
ATTACH;FMTTYPE=image/png:https://delawaregreenways.org/wp-content/uploads/2020/03/SNCC-Image.png
END:VEVENT
BEGIN:VEVENT
DTSTART;TZID=America/New_York:20200921T190000
DTEND;TZID=America/New_York:20200921T210000
DTSTAMP:20260423T140939
CREATED:20200831T170203Z
LAST-MODIFIED:20210408T210433Z
UID:21302-1600714800-1600722000@delawaregreenways.org
SUMMARY:Governor Printz Blvd Corridor Study (Virtual) Public Workshop #2
DESCRIPTION:This 1st Public Workshop on the Master Plan Update will provide an overview of the project\, including the schedule\, goals\, and background information.  The workshop will also explain what a Master Plan is and why it is important in shaping the future of a community.  By participating in this planning process\, you can help shape the way people live\, work\, and play in the Churchman’s Crossing area.  Log-in to the Workshop on Wednesday\, 9/16 via the link provided in registration. 								\n				\n					\n		\n				\n			\n						\n						\n					\n			\n						\n				\n																														\n				\n					\n		\n					\n		\n				\n				\n					Register for the Workshop				\n				\n				\n				\n									\n					\n						\n									Click to Register for Workshop Access
URL:https://delawaregreenways.org/events/gpb-cs-wkshp2/
CATEGORIES:Public Meeting
ATTACH;FMTTYPE=image/png:https://delawaregreenways.org/wp-content/uploads/2020/01/WkshpFlyerImage.png
END:VEVENT
BEGIN:VEVENT
DTSTART;TZID=America/New_York:20200916T170000
DTEND;TZID=America/New_York:20200916T190000
DTSTAMP:20260423T140939
CREATED:20200904T171159Z
LAST-MODIFIED:20210408T211927Z
UID:21479-1600275600-1600282800@delawaregreenways.org
SUMMARY:Churchmans Crossing Plan Update (Virtual) Public Workshop
DESCRIPTION:This 1st Public Workshop on the Master Plan Update will provide an overview of the project\, including the schedule\, goals\, and background information.  The workshop will also explain what a Master Plan is and why it is important in shaping the future of a community.  By participating in this planning process\, you can help shape the way people live\, work\, and play in the Churchman’s Crossing area.  Log-in to the Workshop on Wednesday\, 9/16 via the link provided in registration. 								\n				\n					\n		\n				\n			\n						\n						\n					\n			\n						\n				\n																														\n				\n					\n		\n					\n		\n				\n				\n					Register for the Workshop				\n				\n				\n				\n									\n					\n						\n									Click to Register for Workshop Access
URL:https://delawaregreenways.org/events/churchmans-crossing-plan-update-public-virtual-workshop/
CATEGORIES:Public Meeting
ATTACH;FMTTYPE=image/png:https://delawaregreenways.org/wp-content/uploads/2020/09/Churchman-Wkshp-Cover_crop-e1617916562537.png
END:VEVENT
BEGIN:VEVENT
DTSTART;TZID=America/New_York:20200516T060000
DTEND;TZID=America/New_York:20200531T233000
DTSTAMP:20260423T140939
CREATED:20200515T124851Z
LAST-MODIFIED:20210408T213647Z
UID:20974-1589608800-1590967800@delawaregreenways.org
SUMMARY:Delaware Greenways Bicycle Decorating Contest
DESCRIPTION:This 1st Public Workshop on the Master Plan Update will provide an overview of the project\, including the schedule\, goals\, and background information.  The workshop will also explain what a Master Plan is and why it is important in shaping the future of a community.  By participating in this planning process\, you can help shape the way people live\, work\, and play in the Churchman’s Crossing area.  Log-in to the Workshop on Wednesday\, 9/16 via the link provided in registration. 								\n				\n					\n		\n				\n			\n						\n						\n					\n			\n						\n				\n																														\n				\n					\n		\n					\n		\n				\n				\n					Register for the Workshop				\n				\n				\n				\n									\n					\n						\n									Click to Register for Workshop Access
URL:https://delawaregreenways.org/events/bike-decorate/
CATEGORIES:Family Friendly
ATTACH;FMTTYPE=image/png:https://delawaregreenways.org/wp-content/uploads/2020/05/Bike-Decorating-Contest_DGI-e1617916945415.png
END:VEVENT
BEGIN:VEVENT
DTSTART;VALUE=DATE:20200505
DTEND;VALUE=DATE:20200506
DTSTAMP:20260423T140939
CREATED:20200429T170843Z
LAST-MODIFIED:20210408T195609Z
UID:20818-1588636800-1588723199@delawaregreenways.org
SUMMARY:#GivingTuesdayNow
DESCRIPTION:This 1st Public Workshop on the Master Plan Update will provide an overview of the project\, including the schedule\, goals\, and background information.  The workshop will also explain what a Master Plan is and why it is important in shaping the future of a community.  By participating in this planning process\, you can help shape the way people live\, work\, and play in the Churchman’s Crossing area.  Log-in to the Workshop on Wednesday\, 9/16 via the link provided in registration. 								\n				\n					\n		\n				\n			\n						\n						\n					\n			\n						\n				\n																														\n				\n					\n		\n					\n		\n				\n				\n					Register for the Workshop				\n				\n				\n				\n									\n					\n						\n									Click to Register for Workshop Access
URL:https://delawaregreenways.org/events/giving-tues-now/
CATEGORIES:Fundraiser
ATTACH;FMTTYPE=image/png:https://delawaregreenways.org/wp-content/uploads/2020/04/GT-NOW-2020-Collage-1024x1024-1-e1617911302592.png
END:VEVENT
BEGIN:VEVENT
DTSTART;TZID=America/New_York:20200401T180000
DTEND;TZID=America/New_York:20200401T200000
DTSTAMP:20260423T140939
CREATED:20200312T182255Z
LAST-MODIFIED:20210408T214546Z
UID:20725-1585764000-1585771200@delawaregreenways.org
SUMMARY:Concord Pike (202) Corridor Master Plan Virtual Workshop
DESCRIPTION:This 1st Public Workshop on the Master Plan Update will provide an overview of the project\, including the schedule\, goals\, and background information.  The workshop will also explain what a Master Plan is and why it is important in shaping the future of a community.  By participating in this planning process\, you can help shape the way people live\, work\, and play in the Churchman’s Crossing area.  Log-in to the Workshop on Wednesday\, 9/16 via the link provided in registration. 								\n				\n					\n		\n				\n			\n						\n						\n					\n			\n						\n				\n																														\n				\n					\n		\n					\n		\n				\n				\n					Register for the Workshop				\n				\n				\n				\n									\n					\n						\n									Click to Register for Workshop Access
URL:https://delawaregreenways.org/events/concord-pike-202-corridor-master-plan-virtual-workshop/
CATEGORIES:Public Meeting
ATTACH;FMTTYPE=image/png:https://delawaregreenways.org/wp-content/uploads/2020/09/202-Wkshp-10-05_CROP-768x460-1.png
END:VEVENT
BEGIN:VEVENT
DTSTART;TZID=America/New_York:20200305T180000
DTEND;TZID=America/New_York:20200306T180000
DTSTAMP:20260423T140939
CREATED:20200224T185542Z
LAST-MODIFIED:20210408T215350Z
UID:20635-1583431200-1583517600@delawaregreenways.org
SUMMARY:DO MORE 24 DE
DESCRIPTION:This 1st Public Workshop on the Master Plan Update will provide an overview of the project\, including the schedule\, goals\, and background information.  The workshop will also explain what a Master Plan is and why it is important in shaping the future of a community.  By participating in this planning process\, you can help shape the way people live\, work\, and play in the Churchman’s Crossing area.  Log-in to the Workshop on Wednesday\, 9/16 via the link provided in registration. 								\n				\n					\n		\n				\n			\n						\n						\n					\n			\n						\n				\n																														\n				\n					\n		\n					\n		\n				\n				\n					Register for the Workshop				\n				\n				\n				\n									\n					\n						\n									Click to Register for Workshop Access
URL:https://delawaregreenways.org/events/do-more-24-de/
CATEGORIES:Fundraiser
ATTACH;FMTTYPE=image/jpeg:https://delawaregreenways.org/wp-content/uploads/2021/03/DM24-Logo-e1614614873650.jpg
END:VEVENT
BEGIN:VEVENT
DTSTART;TZID=America/New_York:20200129T170000
DTEND;TZID=America/New_York:20200129T200000
DTSTAMP:20260423T140939
CREATED:20200108T202035Z
LAST-MODIFIED:20210311T195400Z
UID:20505-1580317200-1580328000@delawaregreenways.org
SUMMARY:Governor Printz Boulevard Corridor Study Visioning Workshop
DESCRIPTION:This 1st Public Workshop on the Master Plan Update will provide an overview of the project\, including the schedule\, goals\, and background information.  The workshop will also explain what a Master Plan is and why it is important in shaping the future of a community.  By participating in this planning process\, you can help shape the way people live\, work\, and play in the Churchman’s Crossing area.  Log-in to the Workshop on Wednesday\, 9/16 via the link provided in registration. 								\n				\n					\n		\n				\n			\n						\n						\n					\n			\n						\n				\n																														\n				\n					\n		\n					\n		\n				\n				\n					Register for the Workshop				\n				\n				\n				\n									\n					\n						\n									Click to Register for Workshop Access
URL:https://delawaregreenways.org/events/gpb-cs-wkshp1/
CATEGORIES:Public Meeting
ATTACH;FMTTYPE=:
END:VEVENT
BEGIN:VEVENT
DTSTART;TZID=America/New_York:20200127T173000
DTEND;TZID=America/New_York:20200127T200000
DTSTAMP:20260423T140939
CREATED:20200114T163329Z
LAST-MODIFIED:20200114T163329Z
UID:20525-1580146200-1580155200@delawaregreenways.org
SUMMARY:Newport Transportation Study Public Workshop #1
DESCRIPTION:This 1st Public Workshop on the Master Plan Update will provide an overview of the project\, including the schedule\, goals\, and background information.  The workshop will also explain what a Master Plan is and why it is important in shaping the future of a community.  By participating in this planning process\, you can help shape the way people live\, work\, and play in the Churchman’s Crossing area.  Log-in to the Workshop on Wednesday\, 9/16 via the link provided in registration. 								\n				\n					\n		\n				\n			\n						\n						\n					\n			\n						\n				\n																														\n				\n					\n		\n					\n		\n				\n				\n					Register for the Workshop				\n				\n				\n				\n									\n					\n						\n									Click to Register for Workshop Access
URL:https://delawaregreenways.org/events/newport_1/
CATEGORIES:Public Meeting
ATTACH;FMTTYPE=:
END:VEVENT
BEGIN:VEVENT
DTSTART;TZID=America/New_York:20191123T100000
DTEND;TZID=America/New_York:20191123T140000
DTSTAMP:20260423T140939
CREATED:20191014T132233Z
LAST-MODIFIED:20210311T195412Z
UID:20161-1574503200-1574517600@delawaregreenways.org
SUMMARY:GOBBLE ON THE GREENWAY
DESCRIPTION:This 1st Public Workshop on the Master Plan Update will provide an overview of the project\, including the schedule\, goals\, and background information.  The workshop will also explain what a Master Plan is and why it is important in shaping the future of a community.  By participating in this planning process\, you can help shape the way people live\, work\, and play in the Churchman’s Crossing area.  Log-in to the Workshop on Wednesday\, 9/16 via the link provided in registration. 								\n				\n					\n		\n				\n			\n						\n						\n					\n			\n						\n				\n																														\n				\n					\n		\n					\n		\n				\n				\n					Register for the Workshop				\n				\n				\n				\n									\n					\n						\n									Click to Register for Workshop Access
URL:https://delawaregreenways.org/events/gobbleongreenway/
CATEGORIES:Outdoor Adventure
ATTACH;FMTTYPE=:
END:VEVENT
BEGIN:VEVENT
DTSTART;TZID=America/New_York:20191116T090000
DTEND;TZID=America/New_York:20191116T130000
DTSTAMP:20260423T140939
CREATED:20190717T195148Z
LAST-MODIFIED:20210311T195423Z
UID:19321-1573894800-1573909200@delawaregreenways.org
SUMMARY:Fusion for a Cause 5K Music and Brew Fest
DESCRIPTION:This 1st Public Workshop on the Master Plan Update will provide an overview of the project\, including the schedule\, goals\, and background information.  The workshop will also explain what a Master Plan is and why it is important in shaping the future of a community.  By participating in this planning process\, you can help shape the way people live\, work\, and play in the Churchman’s Crossing area.  Log-in to the Workshop on Wednesday\, 9/16 via the link provided in registration. 								\n				\n					\n		\n				\n			\n						\n						\n					\n			\n						\n				\n																														\n				\n					\n		\n					\n		\n				\n				\n					Register for the Workshop				\n				\n				\n				\n									\n					\n						\n									Click to Register for Workshop Access
URL:https://delawaregreenways.org/events/fusion-for-a-cause-5k-music-and-brew-fest/
CATEGORIES:Fundraiser,Outdoor Adventure
ATTACH;FMTTYPE=:
END:VEVENT
BEGIN:VEVENT
DTSTART;TZID=America/New_York:20191013T090000
DTEND;TZID=America/New_York:20191013T140000
DTSTAMP:20260423T140939
CREATED:20190906T170252Z
LAST-MODIFIED:20210311T195432Z
UID:19813-1570957200-1570975200@delawaregreenways.org
SUMMARY:DEEC Festival Scavenger Hunt
DESCRIPTION:This 1st Public Workshop on the Master Plan Update will provide an overview of the project\, including the schedule\, goals\, and background information.  The workshop will also explain what a Master Plan is and why it is important in shaping the future of a community.  By participating in this planning process\, you can help shape the way people live\, work\, and play in the Churchman’s Crossing area.  Log-in to the Workshop on Wednesday\, 9/16 via the link provided in registration. 								\n				\n					\n		\n				\n			\n						\n						\n					\n			\n						\n				\n																														\n				\n					\n		\n					\n		\n				\n				\n					Register for the Workshop				\n				\n				\n				\n									\n					\n						\n									Click to Register for Workshop Access
URL:https://delawaregreenways.org/events/dgi-scavenger-hunt/
CATEGORIES:Family Friendly,Outdoor Adventure
ATTACH;FMTTYPE=:
END:VEVENT
BEGIN:VEVENT
DTSTART;TZID=America/New_York:20191005T110000
DTEND;TZID=America/New_York:20191005T170000
DTSTAMP:20260423T140939
CREATED:20190916T141026Z
LAST-MODIFIED:20210311T195449Z
UID:19900-1570273200-1570294800@delawaregreenways.org
SUMMARY:River Towns Fall Festival & Ride
DESCRIPTION:This 1st Public Workshop on the Master Plan Update will provide an overview of the project\, including the schedule\, goals\, and background information.  The workshop will also explain what a Master Plan is and why it is important in shaping the future of a community.  By participating in this planning process\, you can help shape the way people live\, work\, and play in the Churchman’s Crossing area.  Log-in to the Workshop on Wednesday\, 9/16 via the link provided in registration. 								\n				\n					\n		\n				\n			\n						\n						\n					\n			\n						\n				\n																														\n				\n					\n		\n					\n		\n				\n				\n					Register for the Workshop				\n				\n				\n				\n									\n					\n						\n									Click to Register for Workshop Access
URL:https://delawaregreenways.org/events/river-towns-fall-festival-ride/
CATEGORIES:Family Friendly,Outdoor Adventure
ATTACH;FMTTYPE=:
END:VEVENT
BEGIN:VEVENT
DTSTART;TZID=America/New_York:20190915T100000
DTEND;TZID=America/New_York:20190915T150000
DTSTAMP:20260423T140939
CREATED:20190906T163821Z
LAST-MODIFIED:20210311T195457Z
UID:19803-1568541600-1568559600@delawaregreenways.org
SUMMARY:DelaWILD
DESCRIPTION:This 1st Public Workshop on the Master Plan Update will provide an overview of the project\, including the schedule\, goals\, and background information.  The workshop will also explain what a Master Plan is and why it is important in shaping the future of a community.  By participating in this planning process\, you can help shape the way people live\, work\, and play in the Churchman’s Crossing area.  Log-in to the Workshop on Wednesday\, 9/16 via the link provided in registration. 								\n				\n					\n		\n				\n			\n						\n						\n					\n			\n						\n				\n																														\n				\n					\n		\n					\n		\n				\n				\n					Register for the Workshop				\n				\n				\n				\n									\n					\n						\n									Click to Register for Workshop Access
URL:https://delawaregreenways.org/events/delawild/
CATEGORIES:Outdoor Adventure
ATTACH;FMTTYPE=:
END:VEVENT
BEGIN:VEVENT
DTSTART;TZID=America/New_York:20190723T170000
DTEND;TZID=America/New_York:20190723T190000
DTSTAMP:20260423T140939
CREATED:20190717T192543Z
LAST-MODIFIED:20210311T195518Z
UID:19390-1563901200-1563908400@delawaregreenways.org
SUMMARY:Brandywine Creek Trail Plan Open House
DESCRIPTION:This 1st Public Workshop on the Master Plan Update will provide an overview of the project\, including the schedule\, goals\, and background information.  The workshop will also explain what a Master Plan is and why it is important in shaping the future of a community.  By participating in this planning process\, you can help shape the way people live\, work\, and play in the Churchman’s Crossing area.  Log-in to the Workshop on Wednesday\, 9/16 via the link provided in registration. 								\n				\n					\n		\n				\n			\n						\n						\n					\n			\n						\n				\n																														\n				\n					\n		\n					\n		\n				\n				\n					Register for the Workshop				\n				\n				\n				\n									\n					\n						\n									Click to Register for Workshop Access
URL:https://delawaregreenways.org/events/brandywine-creek-trail-plan/
CATEGORIES:Public Meeting
ATTACH;FMTTYPE=:
END:VEVENT
BEGIN:VEVENT
DTSTART;TZID=America/New_York:20190606T000000
DTEND;TZID=America/New_York:20190606T235900
DTSTAMP:20260423T140940
CREATED:20190604T165304Z
LAST-MODIFIED:20210311T195526Z
UID:19177-1559779200-1559865540@delawaregreenways.org
SUMMARY:Do More 24 Delaware
DESCRIPTION:This 1st Public Workshop on the Master Plan Update will provide an overview of the project\, including the schedule\, goals\, and background information.  The workshop will also explain what a Master Plan is and why it is important in shaping the future of a community.  By participating in this planning process\, you can help shape the way people live\, work\, and play in the Churchman’s Crossing area.  Log-in to the Workshop on Wednesday\, 9/16 via the link provided in registration. 								\n				\n					\n		\n				\n			\n						\n						\n					\n			\n						\n				\n																														\n				\n					\n		\n					\n		\n				\n				\n					Register for the Workshop				\n				\n				\n				\n									\n					\n						\n									Click to Register for Workshop Access
URL:https://delawaregreenways.org/events/do-more-24-delaware/
CATEGORIES:Fundraiser
ATTACH;FMTTYPE=:
END:VEVENT
BEGIN:VEVENT
DTSTART;VALUE=DATE:20190502
DTEND;VALUE=DATE:20190503
DTSTAMP:20260423T140940
CREATED:20190320T201544Z
LAST-MODIFIED:20190320T201544Z
UID:18791-1556755200-1556841599@delawaregreenways.org
SUMMARY:Walkable Bikeable Delaware Summit
DESCRIPTION:This 1st Public Workshop on the Master Plan Update will provide an overview of the project\, including the schedule\, goals\, and background information.  The workshop will also explain what a Master Plan is and why it is important in shaping the future of a community.  By participating in this planning process\, you can help shape the way people live\, work\, and play in the Churchman’s Crossing area.  Log-in to the Workshop on Wednesday\, 9/16 via the link provided in registration. 								\n				\n					\n		\n				\n			\n						\n						\n					\n			\n						\n				\n																														\n				\n					\n		\n					\n		\n				\n				\n					Register for the Workshop				\n				\n				\n				\n									\n					\n						\n									Click to Register for Workshop Access
URL:https://delawaregreenways.org/events/walkable-bikeable-delaware-summit/
CATEGORIES:Public Meeting
ATTACH;FMTTYPE=:
END:VEVENT
BEGIN:VEVENT
DTSTART;VALUE=DATE:20190404
DTEND;VALUE=DATE:20190407
DTSTAMP:20260423T140940
CREATED:20190225T184441Z
LAST-MODIFIED:20210311T195533Z
UID:18709-1554336000-1554595199@delawaregreenways.org
SUMMARY:Mid-Atlantic Greenways & Trails Summit
DESCRIPTION:This 1st Public Workshop on the Master Plan Update will provide an overview of the project\, including the schedule\, goals\, and background information.  The workshop will also explain what a Master Plan is and why it is important in shaping the future of a community.  By participating in this planning process\, you can help shape the way people live\, work\, and play in the Churchman’s Crossing area.  Log-in to the Workshop on Wednesday\, 9/16 via the link provided in registration. 								\n				\n					\n		\n				\n			\n						\n						\n					\n			\n						\n				\n																														\n				\n					\n		\n					\n		\n				\n				\n					Register for the Workshop				\n				\n				\n				\n									\n					\n						\n									Click to Register for Workshop Access
URL:https://delawaregreenways.org/events/mid-atlantic-greenways-trails-summit/
CATEGORIES:Public Meeting
ATTACH;FMTTYPE=:
END:VEVENT
END:VCALENDAR